BEGIN:VCALENDAR
VERSION:2.0
PRODID:-//ChamberMaster//Event Calendar 2.0//EN
METHOD:PUBLISH
X-PUBLISHED-TTL:P3D
REFRESH-INTERVAL:P3D
CALSCALE:GREGORIAN
BEGIN:VEVENT
DTSTART:20191004T190000Z
DTEND:20191004T200000Z
X-MICROSOFT-CDO-ALLDAYEVENT:FALSE
SUMMARY:Ribbon Cutting Celebration - Boot Barn
DESCRIPTION:LVCC members and the community are invited to join us as we welcome Boot Barn to the community and to the Chamber.
X-ALT-DESC;FMTTYPE=text/html:LVCC members and the community are invited to join us as we welcome Boot Barn to the community and to the Chamber.
LOCATION:Boot Barn 4454 Las Positas Livermore\, CA 94551
UID:e.3178.2856
SEQUENCE:3
DTSTAMP:20260424T063853Z
URL:https://business.livermorechamber.org/events/details/ribbon-cutting-celebration-boot-barn-2856
END:VEVENT

END:VCALENDAR
