BEGIN:VCALENDAR
VERSION:2.0
PRODID:-//ChamberMaster//Event Calendar 2.0//EN
METHOD:PUBLISH
X-PUBLISHED-TTL:P3D
REFRESH-INTERVAL:P3D
CALSCALE:GREGORIAN
BEGIN:VEVENT
DTSTART:20191029T190000Z
DTEND:20191029T200000Z
X-MICROSOFT-CDO-ALLDAYEVENT:FALSE
SUMMARY:Ribbon Cutting Celebration - Mony Nop Real Estate\, Inc.
DESCRIPTION:We invite the community to join us in the ribbon cutting celebration as we welcome Mony Nop Real Estate\, Inc. to their new downtown location.
X-ALT-DESC;FMTTYPE=text/html:We invite the community to join us in the ribbon cutting celebration as we welcome Mony Nop Real Estate\, Inc. to their new downtown location.
LOCATION:Mon Nop Real Estate\, Inc. 144 S. K Street Livermore\, CA 94550 DRE01813021
UID:e.3178.2871
SEQUENCE:3
DTSTAMP:20260424T064047Z
URL:https://business.livermorechamber.org/events/details/ribbon-cutting-celebration-mony-nop-real-estate-inc-2871
END:VEVENT

END:VCALENDAR
