BEGIN:VCALENDAR
VERSION:2.0
PRODID:-//ChamberMaster//Event Calendar 2.0//EN
METHOD:PUBLISH
X-PUBLISHED-TTL:P3D
REFRESH-INTERVAL:P3D
CALSCALE:GREGORIAN
BEGIN:VEVENT
DTSTART:20181108T180000Z
DTEND:20181108T210000Z
X-MICROSOFT-CDO-ALLDAYEVENT:FALSE
SUMMARY:SCORE Workshop - Lessons Learned Starting & Running a Restaurant and Food Service
DESCRIPTION:This event is presented by SCORE East Bay Industry Professional Leland Dear
X-ALT-DESC;FMTTYPE=text/html:This event is presented by SCORE East Bay Industry Professional Leland Dear
LOCATION:Cal State East Bay 1000 Broadway Ste 109 Oakland\, CA 94567
UID:e.3178.1838
SEQUENCE:3
DTSTAMP:20260425T001408Z
URL:https://business.livermorechamber.org/events/details/score-workshop-lessons-learned-starting-running-a-restaurant-and-food-service-1838
END:VEVENT

END:VCALENDAR
