BEGIN:VCALENDAR
VERSION:2.0
PRODID:-//ChamberMaster//Event Calendar 2.0//EN
METHOD:PUBLISH
X-PUBLISHED-TTL:P3D
REFRESH-INTERVAL:P3D
CALSCALE:GREGORIAN
BEGIN:VEVENT
DTSTART:20200627T200000Z
DTEND:20200627T220000Z
X-MICROSOFT-CDO-ALLDAYEVENT:FALSE
SUMMARY:Shepherd's Gate 3rd Annual Ladies Tea Sponsorship Opportunity
DESCRIPTION:Saturday\, June 27th\, 2020 marks Shepherd's Gate's 3rd Annual Ladies Tea Fundraiser at Canyon Creek Presbyterian Church in San Ramon. Supporting Shepherd's Gate gives you visibility and networking opportunities with an organization that has kept mothers and children safe since 1984. We are deeply grateful to those who select one of our sponsorship packages below. Your sponsorship will help us continue the ministry that provides a long-term solution to help women and children escape the cycles of homelessness\, addiction and abuse.  If you are unable to attend\, we can use your seats to accommodate potential guests.\n\n \n\nSPONSORSHIP PACKAGES:\n\n\n\nLead Sponsor - $15\,000\n\n	Top sponsor recognition\n	Website and social media recognition for one year\n	Company name/logo or donor name in slideshow\n	Company name or donor name on table\n	Complimentary table with VIP seating\, 8 seats and 8 raffle tickets\n	Private luncheon with CEO of Shepherd's Gate\n\nPlatinum Sponsor - $10\,000\n\n\n	Top sponsor recognition\n	Website and social media recognition for one year\n	Company name/logo or donor name in slideshow\n	Company name or donor name on table\n	Complimentary table with VIP seating\, 8 seats and 8 raffle tickets\n\n  Gold Sponsor - $5\,000\n\n\n	Website and social media recognition leading up to the event\n	Company name/logo or donor name in slideshow\n	Company name on table\n	Complimentary table\, 8 seats and 8 raffle tickets\n\n  Silver Sponsor - $2\,500\n\n\n	Website recognition on event page\n	Company name/logo or donor name in slideshow\n	4 Complimentary seats and 4 raffle tickets\n\n  Bronze Sponsor - $1\,000\n\n\n	Company name/logo or donor name in slideshow\n	2 Complimentary seats and 2 raffle tickets\n\n Table Host - $320 ($40 per ticket)\n\n\n	1 table for you and your friends (8 seats per table)\n\nDonate an Item:\n\nIf you wish to support the Shepherd's Gate Ladies Tea by donating a raffle item\, please visit Shepherd's Gate's Amazon Wish List at https://smile.amazon.com/hz/wishlist/ls/14NAHMI8E13XZ?&sort=default.\n\n \n\nTo become a sponsor today\, go to www.shepherdsgate.org/tea. \n\nFor more information\, please contact Marcie Senter\, Development Officer\, at msenter@shepherdsgate.org or 925-583-8111.
X-ALT-DESC;FMTTYPE=text/html:<span style="font-size:11px"><span style="color:black">Saturday\, June 27<sup>th</sup>\, 2020 marks Shepherd&rsquo\;s Gate&rsquo\;s 3<sup>rd</sup> Annual Ladies Tea Fundraiser at Canyon Creek Presbyterian Church in San Ramon. Supporting Shepherd&rsquo\;s Gate gives you visibility and networking opportunities with an organization that has kept mothers and children safe since 1984. We are deeply grateful to those who select one of our sponsorship packages below. Your sponsorship will help us continue the ministry that provides a long-term solution to help women and children escape the cycles of homelessness\, addiction and abuse. &nbsp\;If you are unable to attend\, we can use your seats to accommodate potential guests.</span><br />\n&nbsp\;</span><br />\n<span style="font-size:11px"><strong><span style="color:black">SPONSORSHIP PACKAGES:</span></strong><br />\n<br />\n<strong><u><span style="color:black">Lead Sponsor</span></u></strong><strong><span style="color:black"> - $15\,000</span></strong></span>\n<ul>\n	<li><span style="font-size:11px"><span style="color:black">Top sponsor recognition</span></span></li>\n	<li><span style="font-size:11px"><span style="color:black">Website and social media recognition for one year</span></span></li>\n	<li><span style="font-size:11px"><span style="color:black">Company name/logo or donor name in slideshow</span></span></li>\n	<li><span style="font-size:11px"><span style="color:black">Company name or donor name on table</span></span></li>\n	<li><span style="font-size:11px"><span style="color:black">Complimentary table with VIP seating\, 8 seats and 8 raffle tickets</span></span></li>\n	<li><span style="font-size:11px"><span style="color:black">Private luncheon with CEO&nbsp\;of Shepherd&#39\;s Gate</span></span></li>\n</ul>\n<span style="font-size:11px"><strong><u><span style="color:black">Platinum Sponsor</span></u></strong><strong><span style="color:black"> - $10\,000</span></strong></span>\n\n<ul>\n	<li><span style="font-size:11px"><span style="color:black">Top sponsor recognition</span></span></li>\n	<li><span style="font-size:11px"><span style="color:black">Website and social media recognition for one year</span></span></li>\n	<li><span style="font-size:11px"><span style="color:black">Company name/logo or donor name in slideshow</span></span></li>\n	<li><span style="font-size:11px"><span style="color:black">Company name or donor name on table</span></span></li>\n	<li><span style="font-size:11px"><span style="color:black">Complimentary table with VIP seating\, 8 seats and 8 raffle tickets</span></span></li>\n</ul>\n<span style="font-size:11px"> &nbsp\;<strong><u><span style="color:black">Gold Sponsor</span></u><span style="color:black"> - $5\,000</span></strong></span>\n\n<ul>\n	<li><span style="font-size:11px"><span style="color:black">Website and social media recognition leading up to the event</span></span></li>\n	<li><span style="font-size:11px"><span style="color:black">Company name/logo or donor name in slideshow</span></span></li>\n	<li><span style="font-size:11px"><span style="color:black">Company name on table</span></span></li>\n	<li><span style="font-size:11px"><span style="color:black">Complimentary table\, 8 seats&nbsp\;and 8 raffle tickets</span></span></li>\n</ul>\n<span style="font-size:11px"> &nbsp\;<strong><u><span style="color:black">Silver Sponsor</span></u><span style="color:black"> - $2\,500</span></strong></span>\n\n<ul>\n	<li><span style="font-size:11px"><span style="color:black">Website recognition on event page</span></span></li>\n	<li><span style="font-size:11px"><span style="color:black">Company name/logo or donor name in slideshow</span></span></li>\n	<li><span style="font-size:11px"><span style="color:black">4 Complimentary seats and 4 raffle tickets</span></span></li>\n</ul>\n<span style="font-size:11px"> &nbsp\;<strong><u><span style="color:black">Bronze Sponsor</span></u><span style="color:black"> - $1\,000</span></strong></span>\n\n<ul>\n	<li><span style="font-size:11px"><span style="color:black">Company name/logo or donor name in slideshow</span></span></li>\n	<li><span style="font-size:11px"><span style="color:black">2 Complimentary seats&nbsp\;and 2 raffle tickets</span></span></li>\n</ul>\n<span style="font-size:11px"> <strong><u><span style="color:black">Table Host</span></u><span style="color:black"> - $320 ($40 per ticket)</span></strong></span>\n\n<ul>\n	<li><span style="font-size:11px"><span style="color:black">1 table for you and your friends (8 seats per table)</span></span></li>\n</ul>\n<span style="font-size:11px"><strong>Donate an Item:</strong></span>\n\n<div style="text-align:center"><span style="font-size:11px"><span style="color:black">If you wish to support the Shepherd&rsquo\;s Gate Ladies Tea by donating a raffle item\, please visit Shepherd&rsquo\;s Gate&rsquo\;s Amazon Wish List at </span><a href="https://smile.amazon.com/hz/wishlist/ls/14NAHMI8E13XZ?&amp\;sort=default">https://smile.amazon.com/hz/wishlist/ls/14NAHMI8E13XZ?&amp\;sort=default</a>.<br />\n&nbsp\;</span></div>\n\n<div style="text-align:center"><span style="font-size:11px"><strong><em><span style="color:black">To become a sponsor today\, go to </span></em></strong><a href="http://www.shepherdsgate.org/tea"><strong><em>www.shepherdsgate.org/tea</em></strong></a><strong><em><span style="color:black">. </span></em></strong><br />\n<strong><em><span style="color:black">For more information\, please contact Marcie Senter\, Development Officer\, at msenter@shepherdsgate.org or 925-583-8111.</span></em></strong></span></div>\n&nbsp\;
LOCATION:Canyon Creek Presbyterian Church 9015 S Gale Ridge Road San Ramon\, CA 94582
UID:e.3178.3033
SEQUENCE:3
DTSTAMP:20260423T182249Z
URL:https://business.livermorechamber.org/events/details/shepherd-s-gate-3rd-annual-ladies-tea-3033
END:VEVENT

END:VCALENDAR
