BEGIN:VCALENDAR
VERSION:2.0
PRODID:-//ChamberMaster//Event Calendar 2.0//EN
METHOD:PUBLISH
X-PUBLISHED-TTL:P3D
REFRESH-INTERVAL:P3D
CALSCALE:GREGORIAN
BEGIN:VEVENT
DTSTART:20250921T000000Z
DTEND:20250921T040000Z
X-MICROSOFT-CDO-ALLDAYEVENT:FALSE
SUMMARY:Shrimp Boil Dinner
DESCRIPTION:Join us at the Livermore Pleasanton ELKS Lodge on Saturday September 20th at 6:00 PM for a night of good eats\, cold drinks and great company\n\n \n\nWe'll be serving up shrimp\, corn\, potatoes\, sausage and all the fixings Southern-Style!! Come hungry and ready to have a good time.\n\n\n\nThere Will Be Raffle Prizes and Gift Baskets\, plus Music All Night Long! \n\n\n\nLounge Opens at 5:00 PM / Dinner served at 6:00 PM\n\nCost is $55.00 per person (applicable sales tax included) and reservations are required and must be purchased on-line ONLY. There will be no sales at the door.\n\nRaffle Prizes and Gift Baskets\, plus Music All Night Long! \n\nLounge Opens at 5:00 PM / Dinner served at 6:00 PM
X-ALT-DESC;FMTTYPE=text/html:<span style="font-size:16px">Join us at the Livermore Pleasanton ELKS Lodge on Saturday September 20th at 6:00 PM for a night of good eats\, cold drinks and great company<br />\n&nbsp\;<br />\nWe&rsquo\;ll be serving up shrimp\, corn\, potatoes\, sausage and all the fixings&mdash\;Southern-Style!! Come hungry and ready to have a good time.<br />\n<br />\nThere Will Be Raffle Prizes and Gift Baskets\, plus Music All Night Long!&nbsp\;<br />\n<br />\nLounge Opens at 5:00 PM / Dinner served at 6:00 PM<br />\nCost is $55.00 per person (applicable sales tax included) and reservations are required and must be purchased on-line ONLY. There will be no sales at the door.<br />\n<strong><span style="color:white"><span style="font-family:verdana">Raffle Prizes and Gift Baskets\, plus Music All Night Long! </span></span></strong><br />\n<strong><span style="color:white"><span style="font-family:verdana">Lounge Opens at 5:00 PM / Dinner served at 6:00 PM</span></span></strong><br />\n&nbsp\;<br />\n<br />\n&nbsp\;</span><br />\n&nbsp\;
LOCATION:Livermore Pleasanton ELKS Lodge No 2117 940 Larkspur Drive Livermore\, CA. 94551
UID:e.3178.8351
SEQUENCE:3
DTSTAMP:20260421T142016Z
URL:https://business.livermorechamber.org/events/details/shrimp-boil-8351
END:VEVENT

END:VCALENDAR
