BEGIN:VCALENDAR
VERSION:2.0
PRODID:-//ChamberMaster//Event Calendar 2.0//EN
METHOD:PUBLISH
X-PUBLISHED-TTL:P3D
REFRESH-INTERVAL:P3D
CALSCALE:GREGORIAN
BEGIN:VEVENT
DTSTART;VALUE=DATE:20190907
DTEND;VALUE=DATE:20190908
TRANSP:TRANSPARENT
X-MICROSOFT-CDO-ALLDAYEVENT:TRUE
SUMMARY:Sip Paint and Party
DESCRIPTION:Grab your friends and unleash your inner Picasso!\nSaturday\, September 7\, 2019\, 3:00 PM- 6:00 PM at Ehrenberg Cellars 346 Earhart Way\n\nHome to three award-winning wineries:\n\nRosa Fierro Cellars\, Favalora Vineyards\, Winery\, and Ehrenberg Cellars\n\n$45 includes painting supplies\, small bites and 3 tastings at each winery
X-ALT-DESC;FMTTYPE=text/html:Grab your friends and unleash your inner Picasso!\n<p>Saturday\, September 7\, 2019\, 3:00 PM- 6:00 PM at Ehrenberg Cellars 346 Earhart Way</p>\n\n<p>Home to three award-winning wineries:</p>\n\n<p>Rosa Fierro Cellars\, Favalora Vineyards\, Winery\, and Ehrenberg Cellars</p>\n\n<p>$45 includes painting supplies\, small bites and 3 tastings at each winery</p>\n
LOCATION:Earhart Location: 346 Earhart Way\, Livermore CA 94551
UID:e.3178.2850
SEQUENCE:3
DTSTAMP:20260424T080856Z
URL:https://business.livermorechamber.org/events/details/sip-paint-and-party-2850
END:VEVENT

END:VCALENDAR
