BEGIN:VCALENDAR
VERSION:2.0
PRODID:-//ChamberMaster//Event Calendar 2.0//EN
METHOD:PUBLISH
X-PUBLISHED-TTL:P3D
REFRESH-INTERVAL:P3D
CALSCALE:GREGORIAN
BEGIN:VEVENT
DTSTART:20191003T183000Z
DTEND:20191003T203000Z
X-MICROSOFT-CDO-ALLDAYEVENT:FALSE
SUMMARY:Small Business Workshop
DESCRIPTION:Assemblymember Bauer-Kahan will host a free workshop with resources and information for the Tri-Valley small business community.
X-ALT-DESC;FMTTYPE=text/html:Assemblymember Bauer-Kahan will host a free workshop with resources and information for the Tri-Valley small business community.
LOCATION:Dublin Public Library Community Room 200 Civic Plaza\, Dublin
UID:e.3178.2854
SEQUENCE:3
DTSTAMP:20260424T063738Z
URL:https://business.livermorechamber.org/events/details/small-business-workshop-2854
END:VEVENT

END:VCALENDAR
