BEGIN:VCALENDAR
VERSION:2.0
PRODID:-//ChamberMaster//Event Calendar 2.0//EN
METHOD:PUBLISH
X-PUBLISHED-TTL:P3D
REFRESH-INTERVAL:P3D
CALSCALE:GREGORIAN
BEGIN:VEVENT
DTSTART:20251219T033000Z
DTEND:20251219T053000Z
X-MICROSOFT-CDO-ALLDAYEVENT:FALSE
SUMMARY:Stella Cole with Strings Holiday Show
DESCRIPTION:Jazz. Holiday. Vocalist.\n\nMember Appreciation Event. Rising star Stella Cole makes her highly anticipated Bankhead debut with a dazzling holiday performance\, bringing her signature jazz-infused vocals to timeless Christmas classics. Accompanied by a lush string ensemble\, Stella's rich\, soulful voice will fill the theater with warmth and nostalgia\, making this a holiday concert to remember. Celebrate the season with an enchanting evening of music\, magic\, and merriment get your tickets now!\n\n \n\nMember Appreciation Event: All members and up to three guests are invited to join us in the VIP Room before the show and during intermission for a special experience. More details to follow.
X-ALT-DESC;FMTTYPE=text/html:<p><span style="font-size:16px\;"><em>Jazz. Holiday. Vocalist.</em></span></p>\n\n<p><span style="font-size:16px\;"><em>Member Appreciation Event</em>.&nbsp\;Rising star&nbsp\;<em>Stella Cole</em>&nbsp\;makes her highly anticipated&nbsp\;<em>Bankhead</em>&nbsp\;debut with a dazzling holiday performance\, bringing her signature jazz-infused vocals to timeless Christmas classics. Accompanied by a lush string ensemble\, Stella&rsquo\;s rich\, soulful voice will fill the theater with warmth and nostalgia\, making this a holiday concert to remember. Celebrate the season with an enchanting evening of music\, magic\, and merriment&mdash\;get your tickets now!</span></p>\n\n<p>&nbsp\;</p>\n\n<p>Member Appreciation Event: All members and up to three guests are invited to join us in the VIP Room before the show and during intermission for a special experience. More details to follow.</p>\n
LOCATION:Bankhead Theater 2400 1st St.\, Livermore\, CA 94550
UID:e.3178.8290
SEQUENCE:3
DTSTAMP:20260421T143656Z
URL:https://business.livermorechamber.org/events/details/stella-cole-with-strings-holiday-show-8290
END:VEVENT

END:VCALENDAR
