BEGIN:VCALENDAR
VERSION:2.0
PRODID:-//ChamberMaster//Event Calendar 2.0//EN
METHOD:PUBLISH
X-PUBLISHED-TTL:P3D
REFRESH-INTERVAL:P3D
CALSCALE:GREGORIAN
BEGIN:VEVENT
DTSTART:20260110T040000Z
DTEND:20260110T060000Z
X-MICROSOFT-CDO-ALLDAYEVENT:FALSE
SUMMARY:STOP MAKING SENSE: A Film by Jonathan Demme and Talking Heads Live Event Hosted by Jerry Harrison
DESCRIPTION:Film. The Talking Heads. Jerry Harrison.\n\nNewly restored in 4K to coincide with its 40th anniversary\, the 1984 film was directed by renowned filmmaker Jonathan Demme and is considered by critics as the greatest concert film of all time. Starring band members David Byrne\, Chris Frantz\, Jerry Harrison and Tina Weymouth (along with their incredible touring musicians)\, the live performance was shot at Hollywood's Pantages Theater and features Talking Heads' most memorable songs. The live event will feature a public screening of the re-release and hosted by co-star Jerry Harrison who will deliver introductory remarks\, post screening comments and audience Q&A.
X-ALT-DESC;FMTTYPE=text/html:<p><span style="font-size:16px\;"><em>Film. The Talking Heads. Jerry Harrison.</em></span></p>\n\n<p><span style="font-size:16px\;">Newly restored in 4K to coincide with its 40th anniversary\, the 1984 film was directed by renowned filmmaker&nbsp\;<em>Jonathan Demme</em>&nbsp\;and is considered by critics as the greatest concert film of all time. Starring band members&nbsp\;<em>David Byrne</em>\,&nbsp\;<em>Chris Frantz</em>\,&nbsp\;<em>Jerry Harrison</em>&nbsp\;and&nbsp\;<em>Tina Weymouth</em>&nbsp\;(along with their incredible touring musicians)\, the live performance was shot at Hollywood&rsquo\;s Pantages Theater and features&nbsp\;Talking Heads&rsquo\; most memorable songs. The live event will feature a public screening of the re-release and hosted by co-star Jerry Harrison who will deliver introductory remarks\, post screening comments and audience Q&amp\;A.</span></p>\n
LOCATION:Bankhead Theater 2400 1st St. Livermore\, CA 94550
UID:e.3178.8417
SEQUENCE:3
DTSTAMP:20260421T132240Z
URL:https://business.livermorechamber.org/events/details/stop-making-sense-a-film-by-jonathan-demme-and-talking-heads-live-event-hosted-by-jerry-harrison-8417
END:VEVENT

END:VCALENDAR
