BEGIN:VCALENDAR
VERSION:2.0
PRODID:-//ChamberMaster//Event Calendar 2.0//EN
METHOD:PUBLISH
X-PUBLISHED-TTL:P3D
REFRESH-INTERVAL:P3D
CALSCALE:GREGORIAN
BEGIN:VEVENT
DTSTART:20250713T010000Z
DTEND:20250713T040000Z
X-MICROSOFT-CDO-ALLDAYEVENT:FALSE
SUMMARY:Sunset Concert featuring Crawdad Republic
DESCRIPTION:Sunset Concert featuring Crawdad Republic\n\nFeatured Openers: John Paro & Wes Cain \n\nSaturday\, July 12th\n\n6:00-9:00PM\n \n\nKick off summer with an unforgettable evening at McGrail Vineyards! Gather your family and friends for a lively outdoor concert featuring hometown favorites\, Crawdad Republic. With their signature blend of folk and bluegrass\, rich harmonies\, and feel-good melodies\, Crawdad Republic is sure to get you dancing! A beloved staple of the Livermore music scene\, some even call them 'the sound of Livermore.' Don't miss this family-friendly night of music\, fun\, and summer vibes!\n \n\nTickets to this event include entry to enjoy the live music! Our Front Lawn offers an open\, grassy space without tables\, chairs\, or shade\, so we encourage you to bring blankets and low-back chairs to relax in comfort.\n  \n\nLive Music | Crawdad Republic | Folk & Bluegrass \n\nFeatured Openers | John Paro & Wes Cain | Guitar-Driven Pop-Rock\n  \n\nFood Truck | Fonsecas' Mexican Food Truck & Aldo's Gelato \n\nAuthentic Mexican Food & Hand-crafted Artisan Gelato \n  \n\n\n	\n	All guests that attend this event need a ticket\, including guests under the age of 21.\n	\n	\n	McGrail wines will be available for purchase by the glass and bottle. \n	\n	\n	Food from the local food truck(s) on site will be available for purchase. \n	\n	\n	Outside food and non-alcoholic beverages are permitted. \n	\n	\n	Outside alcoholic beverages are strictly prohibited. \n	\n	\n	No pets allowed. \n	\n\n  \n\n$30/Guest\n\n$25/Wine Club Member\n\n$10/Guest Under 21
X-ALT-DESC;FMTTYPE=text/html:<p><span style="font-size:16px\;"><strong>Sunset Concert featuring Crawdad Republic</strong></span></p>\n\n<p><span style="font-size:16px\;"><em>Featured Openers: </em><em>John Paro &amp\; Wes Cain&nbsp\;</em></span></p>\n\n<p><span style="font-size:16px\;"><span style="background-color: transparent\; color: rgb(0\, 0\, 0)\; font-family: &quot\;times new roman&quot\;\, serif\;">Saturday\, July 12th</span><br />\n<span style="background-color: transparent\; color: rgb(0\, 0\, 0)\; font-family: &quot\;times new roman&quot\;\, serif\;">6:00-9:00PM</span></span></p>\n&nbsp\;\n\n<p><span style="font-size:16px\;"><span style="background-color: transparent\; color: rgb(0\, 0\, 0)\; font-family: &quot\;times new roman&quot\;\, serif\;">Kick off summer with an unforgettable evening at McGrail Vineyards! Gather your family and friends for a lively outdoor concert featuring hometown favorites\, Crawdad Republic. With their signature blend of folk and bluegrass\, rich harmonies\, and feel-good melodies\, Crawdad Republic is sure to get you dancing! A beloved staple of the Livermore music scene\, some even call them &#39\;the sound of Livermore.&#39\; Don&rsquo\;t miss this family-friendly night of music\, fun\, and summer vibes!</span></span></p>\n<span style="font-size:16px\;">&nbsp\;</span>\n\n<p><span style="font-size:16px\;"><span style="color: rgb(0\, 0\, 0)\; font-family: &quot\;times new roman&quot\;\, serif\;">Tickets to this event include entry to enjoy the live music! Our Front Lawn offers an open\, grassy space without tables\, chairs\, or shade\, so we encourage you to bring blankets and low-back chairs to relax in comfort.</span></span></p>\n<span style="font-size:16px\;"> &nbsp\;</span>\n\n<p><span style="font-size:16px\;"><strong>Live Music</strong><span style="color: rgb(0\, 0\, 0)\; font-family: &quot\;times new roman&quot\;\, serif\;"> | Crawdad Republic | </span><em>Folk &amp\; Bluegrass</em><span style="color: rgb(0\, 0\, 0)\; font-family: &quot\;times new roman&quot\;\, serif\;">&nbsp\;</span></span></p>\n\n<p><span style="font-size:16px\;"><span style="color: rgb(0\, 0\, 0)\; font-family: &quot\;times new roman&quot\;\, serif\;">Featured Openers | </span><span style="color: rgb(34\, 34\, 34)\; font-family: &quot\;times new roman&quot\;\, serif\;">John Paro &amp\; Wes Cain | </span><em>Guitar-Driven Pop-Rock</em></span></p>\n<span style="font-size:16px\;"> &nbsp\;</span>\n\n<p><span style="font-size:16px\;"><strong>Food Truck</strong><span style="color: rgb(0\, 0\, 0)\; font-family: &quot\;times new roman&quot\;\, serif\;"> | Fonsecas&rsquo\; Mexican Food Truck &amp\; Aldo&rsquo\;s Gelato&nbsp\;</span></span></p>\n\n<p><span style="font-size:16px\;"><em>Authentic Mexican Food &amp\; Hand-crafted Artisan Gelato&nbsp\;</em></span></p>\n<span style="font-size:16px\;"> &nbsp\;</span>\n\n<ul>\n	<li>\n	<p><span style="font-size:16px\;">All guests that attend this event need a ticket\, including guests under the age of 21.</span></p>\n	</li>\n	<li>\n	<p><span style="font-size:16px\;">McGrail wines will be available for purchase by the glass and bottle.&nbsp\;</span></p>\n	</li>\n	<li>\n	<p><span style="font-size:16px\;">Food from the local food truck(s) on site will be available for purchase.&nbsp\;</span></p>\n	</li>\n	<li>\n	<p><span style="font-size:16px\;">Outside food and non-alcoholic beverages are permitted.&nbsp\;</span></p>\n	</li>\n	<li>\n	<p><span style="font-size:16px\;">Outside alcoholic beverages are strictly prohibited.&nbsp\;</span></p>\n	</li>\n	<li>\n	<p><span style="font-size:16px\;">No pets allowed.&nbsp\;</span></p>\n	</li>\n</ul>\n<span style="font-size:16px\;"> &nbsp\;</span>\n\n<p><span style="font-size:16px\;"><span style="color: rgb(0\, 0\, 0)\; font-family: &quot\;times new roman&quot\;\, serif\;">$30/Guest</span></span></p>\n\n<p><span style="font-size:16px\;"><span style="color: rgb(0\, 0\, 0)\; font-family: &quot\;times new roman&quot\;\, serif\;">$25/Wine Club Member</span></span></p>\n\n<p><span style="font-size:16px\;"><span style="color: rgb(0\, 0\, 0)\; font-family: &quot\;times new roman&quot\;\, serif\;">$10/Guest Under 21 </span></span></p>\n\n<div>&nbsp\;</div>\n
LOCATION:McGrail Vineyards 5600 Greenville Road Livermore\, CA 94550
UID:e.3178.8270
SEQUENCE:3
DTSTAMP:20260421T114506Z
URL:https://business.livermorechamber.org/events/details/sunset-concert-featuring-crawdad-republic-07-12-2025-8270
END:VEVENT

END:VCALENDAR
