BEGIN:VCALENDAR
VERSION:2.0
PRODID:-//ChamberMaster//Event Calendar 2.0//EN
METHOD:PUBLISH
X-PUBLISHED-TTL:P3D
REFRESH-INTERVAL:P3D
CALSCALE:GREGORIAN
BEGIN:VEVENT
DTSTART:20181128T010000Z
DTEND:20181128T030000Z
X-MICROSOFT-CDO-ALLDAYEVENT:FALSE
SUMMARY:Sunset Park Playground Community Outreach Meeting
DESCRIPTION:After hearing your comments in September\, consultants developed two conceptual playground plans. Let us know what your preferred option is\; drop in at your convenience between 5 pm and 7 pm! Your feedback is important in developing a plan for the Sunset Park Playground.
X-ALT-DESC;FMTTYPE=text/html:<span style="font-family:helvetica neue\,helvetica\,arial\,sans-serif\; font-size:14px">After hearing your comments in September\, consultants developed two conceptual playground plans. Let us know what your preferred option is\; drop in at your convenience between 5 pm and 7 pm! Your feedback is important in developing a plan for the Sunset Park Playground.</span>
LOCATION:Robert Livermore Community Center 4444 East Avenue\, Livermore\, CA
UID:e.3178.1856
SEQUENCE:3
DTSTAMP:20260425T001537Z
URL:https://business.livermorechamber.org/events/details/sunset-park-playground-community-outreach-meeting-1856
END:VEVENT

END:VCALENDAR
