BEGIN:VCALENDAR
VERSION:2.0
PRODID:-//ChamberMaster//Event Calendar 2.0//EN
METHOD:PUBLISH
X-PUBLISHED-TTL:P3D
REFRESH-INTERVAL:P3D
CALSCALE:GREGORIAN
BEGIN:VEVENT
DTSTART:20190926T001500Z
DTEND:20190926T020000Z
X-MICROSOFT-CDO-ALLDAYEVENT:FALSE
SUMMARY:The Retirement Income Dilemma
DESCRIPTION:You are cordially invited to Dine and Learn on us at our business seminar\, The Retirement Income Dilemma\, that will take place at Scott's Seafood Restaurant\, on September 25\, 2019 at 5:15 PM.\n\n \n\nThis meeting brings together Rich Merson\, CRPS\, CMFC\, Vice President of DCIO at PIMCO Investments\, and Donna K. Sinor\, JD\, CLU\, ChFC\, Director at Kansas City Life\, who will be discussing diversified approach to building a solid plan for retirement\, and 6 Key areas of retirement and how they collaborate so one can retire with dignity.\n\n \n\nAttached is a copy of our formal invitation. Seating is limited\, please respond as soon as possible.\n\n \n\nWe at BNJA Insurance and Financial Services\, Inc. look forward to your positive response in discussing "The Retirement Income Dilemma."
X-ALT-DESC;FMTTYPE=text/html:You are cordially invited to Dine and Learn on us at our business seminar\, The Retirement Income Dilemma\, that will take place at Scott&#39\;s Seafood Restaurant\, on September 25\, 2019 at 5:15 PM.<br />\n&nbsp\;<br />\nThis meeting brings together Rich Merson\, <em>CRPS</em>\, <em>CMFC</em>\, Vice President of DCIO at PIMCO Investments\, and Donna K. Sinor\,<em> JD</em>\, <em>CLU</em>\, <em>ChFC</em>\, Director at Kansas City Life\, who will be discussing diversified approach to building a solid plan for retirement\, and 6 Key areas of retirement and how they collaborate so one can retire with dignity.<br />\n&nbsp\;<br />\nAttached is a copy of our formal invitation. Seating is limited\, please respond as soon as possible.<br />\n&nbsp\;<br />\nWe at BNJA Insurance and Financial Services\, Inc. look forward to your positive response in discussing &quot\;The Retirement Income Dilemma.&quot\;
LOCATION:Scott's Seafood Restaurant 1333 N. California Blvd. Walnut Creek\, CA 94596
UID:e.3178.2860
SEQUENCE:3
DTSTAMP:20260424T081404Z
URL:https://business.livermorechamber.org/events/details/the-retirement-income-dilemma-2860
END:VEVENT

END:VCALENDAR
