BEGIN:VCALENDAR
VERSION:2.0
PRODID:-//ChamberMaster//Event Calendar 2.0//EN
METHOD:PUBLISH
X-PUBLISHED-TTL:P3D
REFRESH-INTERVAL:P3D
CALSCALE:GREGORIAN
BEGIN:VEVENT
DTSTART:20260111T040000Z
DTEND:20260111T060000Z
X-MICROSOFT-CDO-ALLDAYEVENT:FALSE
SUMMARY:Top of the World: A Carpenters Tribute
DESCRIPTION:Tribute. Beloved. The Carpenters.\n\nCelebrate the music of The Carpenters with Top of the World\, the world's premiere tribute to this legendary duo. Fronted by the astonishing Debbie Taylor\, whose vocals capture the warm\, contralto tones of Karen Carpenter\, this seven-piece band brings every song to life with incredible musicianship no tracks\, no pickup musicians\, just pure talent. Sing along to beloved hits like Close to You\, We've Only Just Begun\, and Yesterday Once More as you're taken on a nostalgic journey through the music and stories of The Carpenters!
X-ALT-DESC;FMTTYPE=text/html:<p><span style="font-size:16px\;"><em>Tribute. Beloved. The Carpenters.</em></span></p>\n\n<p><span style="font-size:16px\;">Celebrate the music of The Carpenters with&nbsp\;<em>Top of the World</em>\, the world&rsquo\;s premiere tribute to this legendary duo. Fronted by the astonishing&nbsp\;Debbie Taylor\, whose vocals capture the warm\, contralto tones of&nbsp\;Karen Carpenter\, this seven-piece band brings every song to life with incredible musicianship&mdash\;no tracks\, no pickup musicians\, just pure talent. Sing along to beloved hits like Close to You\, We&rsquo\;ve Only Just Begun\, and Yesterday Once More as you&rsquo\;re taken on a nostalgic journey through the music and stories of&nbsp\;<em>The Carpenters</em>!</span></p>\n
LOCATION:Bankhead Theater 2400 1st St. Livermore\, CA 94550
UID:e.3178.8418
SEQUENCE:3
DTSTAMP:20260421T132202Z
URL:https://business.livermorechamber.org/events/details/top-of-the-world-a-carpenters-tribute-8418
END:VEVENT

END:VCALENDAR
