BEGIN:VCALENDAR
VERSION:2.0
PRODID:-//ChamberMaster//Event Calendar 2.0//EN
METHOD:PUBLISH
X-PUBLISHED-TTL:P3D
REFRESH-INTERVAL:P3D
CALSCALE:GREGORIAN
BEGIN:VEVENT
DTSTART:20191109T020000Z
DTEND:20191109T070000Z
X-MICROSOFT-CDO-ALLDAYEVENT:FALSE
SUMMARY:Tri-Valley Conservancy's 25th Anniversary Celebration at Jeans & Jewels Rockin' the Ranch!
DESCRIPTION:Save the date of celebrating 25 years of preserving the Tri-Valley together at Tri-Valley Conservancy's 2019 Jeans & Jewels! Tri-Valley Conservancy protects open space for you\, wildlife and future generations to enjoy. To celebrate 25 years of preserving the Tri-Valley together\, we invite you to sponsor (or attend) our signature Jeans & Jewels event. This year's theme is Rockin' the Ranch and will feature a delicious dinner\, medal-winning local wines\, fun games\, and unique auction experiences\, all nestled in the preserved vineyards at Casa Real. The best part is that in addition to helping preserve our critical lands forever\, your support will expand the Discovery Youth in Nature program to connect more girls and boys with the outdoors through hands-on environmental science lessons and a hike on preserved lands!
X-ALT-DESC;FMTTYPE=text/html:Save the date of celebrating 25 years of preserving the Tri-Valley together at Tri-Valley Conservancy&rsquo\;s 2019 Jeans &amp\; Jewels! Tri-Valley Conservancy protects open space for you\, wildlife and future generations to enjoy. To celebrate 25 years of preserving the Tri-Valley together\, we invite you to sponsor (or attend) our signature Jeans &amp\; Jewels event. This year&rsquo\;s theme is Rockin&rsquo\; the Ranch and will feature a delicious dinner\, medal-winning local wines\, fun games\, and unique auction experiences\, all nestled in the preserved vineyards at Casa Real. The best part is that in addition to helping preserve our critical lands forever\, your support will expand the Discovery Youth in Nature program to connect more girls and boys with the outdoors through hands-on environmental science lessons and a hike on preserved lands!
LOCATION:Casa Real Event Center
UID:e.3178.2229
SEQUENCE:3
DTSTAMP:20260424T050534Z
URL:https://business.livermorechamber.org/events/details/tri-valley-conservancy-s-25th-anniversary-celebration-at-jeans-jewels-rockin-the-ranch-2229
END:VEVENT

END:VCALENDAR
