BEGIN:VCALENDAR
VERSION:2.0
PRODID:-//ChamberMaster//Event Calendar 2.0//EN
METHOD:PUBLISH
X-PUBLISHED-TTL:P3D
REFRESH-INTERVAL:P3D
CALSCALE:GREGORIAN
BEGIN:VEVENT
DTSTART:20200417T010000Z
DTEND:20200417T033000Z
X-MICROSOFT-CDO-ALLDAYEVENT:FALSE
SUMMARY:Tri-Valley Conservancy's Annual UNCORKED Wine Competition Awards Celebration
DESCRIPTION:Join Tri-Valley Conservancy for our 11th Annual UNCORKED Celebration!  Come taste the local award winning wines.  After two rounds of blind judging\, the medal winning wines are announced at the UNCORKED Celebration on Thursday\, April 16th. Come see who wins Best Red\, White\, Rose\, and Best in Show!  Will it be one of your favorites?  Tickets are only $75 and include unlimited wine tasting and delicious hors d' oeuvres by Beets Hospitality Group.  Come mingle with the winemakers and wine growers.  The best part is that you are helping to preserve more land in the Tri-Valley!
X-ALT-DESC;FMTTYPE=text/html:Join <a href="trivalleyconservancy.org/">Tri-Valley Conservancy </a>for our 11th Annual <em>UNCORKED</em> Celebration!&nbsp\; Come taste the local award winning wines.&nbsp\; After two rounds of blind judging\, the medal winning wines are announced at the <em>UNCORKED</em> Celebration on <strong>Thursday\, April 16th</strong>. Come see who wins Best Red\, White\, Rose\, and Best in Show!&nbsp\; Will it be one of your favorites?&nbsp\; Tickets are only $75 and include unlimited wine tasting and delicious hors d&#39\; oeuvres by <a href="http://beetshospitality.com/">Beets Hospitality Group</a>.&nbsp\; Come mingle with the winemakers and wine growers.&nbsp\; The best part is that you are helping to preserve more land in the Tri-Valley!
LOCATION:Casa Real 410 Vineyard Avenue Pleasanton\, Ca. 94566
UID:e.3178.2892
SEQUENCE:3
DTSTAMP:20260423T213654Z
URL:https://business.livermorechamber.org/events/details/tri-valley-conservancy-s-annual-uncorked-wine-competition-awards-celebration-2892
END:VEVENT

END:VCALENDAR
