BEGIN:VCALENDAR
VERSION:2.0
PRODID:-//ChamberMaster//Event Calendar 2.0//EN
METHOD:PUBLISH
X-PUBLISHED-TTL:P3D
REFRESH-INTERVAL:P3D
CALSCALE:GREGORIAN
BEGIN:VEVENT
DTSTART:20190919T220000Z
DTEND:20190920T010000Z
X-MICROSOFT-CDO-ALLDAYEVENT:FALSE
SUMMARY:Tri-Valley JOB FAIR
DESCRIPTION:Fall job fair and networking event with over 40 employers and hundreds of job seekers\, this is an opportunity for hiring companies to meet qualified applicants and vice versa.
X-ALT-DESC;FMTTYPE=text/html:Fall job fair and networking event with over 40 employers and hundreds of job seekers\, this is an opportunity for hiring companies to meet qualified applicants and vice versa.
LOCATION:Four Points by Sheraton Pleasanton 5115 Hopyard Rd. Pleasanton\, CA 94588
UID:e.3178.2867
SEQUENCE:3
DTSTAMP:20260424T080824Z
URL:https://business.livermorechamber.org/events/details/tri-valley-job-fair-2867
END:VEVENT

END:VCALENDAR
