BEGIN:VCALENDAR
VERSION:2.0
PRODID:-//ChamberMaster//Event Calendar 2.0//EN
METHOD:PUBLISH
X-PUBLISHED-TTL:P3D
REFRESH-INTERVAL:P3D
CALSCALE:GREGORIAN
BEGIN:VEVENT
DTSTART:20190919T183000Z
DTEND:20190919T203000Z
X-MICROSOFT-CDO-ALLDAYEVENT:FALSE
SUMMARY:Tri-Valley Mayor's Summit
DESCRIPTION:Tri-Valley Mayor's Summit hosted by Danville Area Chamber of Commerce.  Co-hosted Livermore Valley Chamber of Commerce\, Dublin Chamber of Commerce\, San Ramon Chamber of Commerce and Pleasanton Chamber of Commerce.
X-ALT-DESC;FMTTYPE=text/html:Tri-Valley Mayor&#39\;s Summit hosted by Danville Area Chamber of Commerce.&nbsp\; Co-hosted Livermore Valley Chamber of Commerce\, Dublin Chamber of Commerce\, San Ramon Chamber of Commerce and Pleasanton Chamber of Commerce.&nbsp\;&nbsp\;
LOCATION:Danville Town Hall & The Village Theater & Art Gallery 233 Front St. Danville\, CA 94526
UID:e.3178.2855
SEQUENCE:3
DTSTAMP:20260424T080713Z
URL:https://business.livermorechamber.org/events/details/tri-valley-mayor-s-summit-2855
END:VEVENT

END:VCALENDAR
