BEGIN:VCALENDAR
VERSION:2.0
PRODID:-//ChamberMaster//Event Calendar 2.0//EN
METHOD:PUBLISH
X-PUBLISHED-TTL:P3D
REFRESH-INTERVAL:P3D
CALSCALE:GREGORIAN
BEGIN:VEVENT
DTSTART:20251203T000000Z
DTEND:20251203T030000Z
X-MICROSOFT-CDO-ALLDAYEVENT:FALSE
SUMMARY:Tuesdays on the Terrace at McGrail
DESCRIPTION:Tuesdays on the Terrace at McGrail\n\n4:00-7:00pm\n\nUnwind with us every Tuesday for extended tasting room hours at McGrail Vineyards! Enjoy award-winning wines by the glass or bottle and breathtaking sunset views over the valley. Entry is free\, just bring your friends\, your love for good wine\, & great vibes!\n\nGuests must be 21 years of age or older.\n\nSeating is first-come\, first-served.\n\nMcGrail will have charcuterie boxes\, sandwiches\, & other items available for purchase from Color of Fresh while supplies last. Outside food is welcome! \n\nComplimentary Entry
X-ALT-DESC;FMTTYPE=text/html:<p><span style="font-size:16px\;"><strong>Tuesdays on the Terrace at McGrail</strong><br />\n<span style="color: rgb(0\, 0\, 0)\; font-family: &quot\;times new roman&quot\;\, serif\;">4:00-7:00pm</span></span></p>\n\n<p><span style="font-size:16px\;"><span style="color: rgb(0\, 0\, 0)\; font-family: &quot\;times new roman&quot\;\, serif\;">Unwind with us every Tuesday for extended tasting room hours at McGrail Vineyards! Enjoy award-winning wines by the glass or bottle and breathtaking sunset views over the valley. Entry is free\, just bring your friends\, your love for good wine\, &amp\; great vibes!</span></span></p>\n\n<p><span style="font-size:16px\;"><span style="color: rgb(0\, 0\, 0)\; font-family: &quot\;times new roman&quot\;\, serif\;">Guests must be 21 years of age or older.</span></span></p>\n\n<p><span style="font-size:16px\;"><span style="color: rgb(0\, 0\, 0)\; font-family: &quot\;times new roman&quot\;\, serif\;">Seating is first-come\, first-served.</span></span></p>\n\n<p><span style="font-size:16px\;"><span style="color: rgb(0\, 0\, 0)\; font-family: &quot\;times new roman&quot\;\, serif\;">McGrail will have charcuterie boxes\, sandwiches\, &amp\; other items available for purchase from Color of Fresh while supplies last. Outside food is welcome!&nbsp\;</span></span></p>\n\n<p><span style="font-size:16px\;"><span style="color: rgb(0\, 0\, 0)\; font-family: &quot\;times new roman&quot\;\, serif\;">Complimentary Entry</span></span></p>\n\n<div>&nbsp\;</div>\n
LOCATION:McGrail Vineyards 5600 Greenville Road Livermore\, CA 94550
UID:e.3178.8380
SEQUENCE:3
DTSTAMP:20260421T132105Z
URL:https://business.livermorechamber.org/events/details/tuesdays-on-the-terrace-at-mcgrail-12-02-2025-8380
END:VEVENT

END:VCALENDAR
