BEGIN:VCALENDAR
VERSION:2.0
PRODID:-//ChamberMaster//Event Calendar 2.0//EN
METHOD:PUBLISH
X-PUBLISHED-TTL:P3D
REFRESH-INTERVAL:P3D
CALSCALE:GREGORIAN
BEGIN:VEVENT
DTSTART:20191118T200000Z
DTEND:20191212T200000Z
X-MICROSOFT-CDO-ALLDAYEVENT:FALSE
SUMMARY:UNCLE Credit Union + Toys for Tots
DESCRIPTION:UNCLE Credit Union now accepting Toys for Tots donations
X-ALT-DESC;FMTTYPE=text/html:UNCLE Credit Union now accepting Toys for Tots donations&nbsp\;
LOCATION:Two UNCLE Credit Union locations to donate at: Main Branch 2001 Las Positas Ct. Livermore\, CA 94551 Concannon Branch 1809 Holmes St. Livermore\, CA 94550
UID:e.3178.2888
SEQUENCE:3
DTSTAMP:20260424T035639Z
URL:https://business.livermorechamber.org/events/details/uncle-credit-union-toys-for-tots-2888
END:VEVENT

END:VCALENDAR
