BEGIN:VCALENDAR
VERSION:2.0
PRODID:-//ChamberMaster//Event Calendar 2.0//EN
METHOD:PUBLISH
X-PUBLISHED-TTL:P3D
REFRESH-INTERVAL:P3D
CALSCALE:GREGORIAN
BEGIN:VEVENT
DTSTART:20181103T150000Z
DTEND:20181103T170000Z
X-MICROSOFT-CDO-ALLDAYEVENT:FALSE
SUMMARY:Veterans Pancake Breakfast
DESCRIPTION:VETERANS\, ACTIVE DUTY\, AND FAMILY ARE INVITED\n\nTO JOIN US FOR A COMPLIMENTARY BREAKFAST AND AN\n\nUPDATE ON THE LEGISLATURE'S WORK TO HELP VETERANS.
X-ALT-DESC;FMTTYPE=text/html:VETERANS\, ACTIVE DUTY\, AND FAMILY ARE INVITED<br />\nTO JOIN US FOR A COMPLIMENTARY BREAKFAST AND AN<br />\nUPDATE ON THE LEGISLATURE&rsquo\;S WORK TO HELP VETERANS.
LOCATION:Veterans Memorial Building of the San Ramon Valley 400 Hartz Ave\, Danville\, CA 94526
UID:e.3178.1837
SEQUENCE:3
DTSTAMP:20260425T001159Z
URL:https://business.livermorechamber.org/events/details/veterans-pancake-breakfast-1837
END:VEVENT

END:VCALENDAR
