BEGIN:VCALENDAR
VERSION:2.0
PRODID:-//ChamberMaster//Event Calendar 2.0//EN
METHOD:PUBLISH
X-PUBLISHED-TTL:P3D
REFRESH-INTERVAL:P3D
CALSCALE:GREGORIAN
BEGIN:VEVENT
DTSTART:20220217T010000Z
DTEND:20220217T020000Z
X-MICROSOFT-CDO-ALLDAYEVENT:FALSE
SUMMARY:Virtual Speed Networking in Lieu of After Hours Business Mixer
DESCRIPTION:In lieu of the February Mixer\, we would love to see you at the virtual speed networking event.  Join us and bring your best networking and connection advise to share with others.\n\n\n\nShowcase your business!  Interested in hosting an LVCC After Hours Business Mixer in 2022? Contact Martha Espinoza at mespinoza@livermorechamber.org or 925-447-1606.
X-ALT-DESC;FMTTYPE=text/html:<span background-color:="" font-size:="" style="color: rgb(51\, 51\, 51)\; font-family: sans-serif\, Arial\, Verdana\, " trebuchet=""><span style="font-size:14px\;"><span style="font-family:verdana\;">In lieu of the February Mixer\, we would love to see you at the virtual speed networking event.&nbsp\; Join us and bring your best networking and connection advise to share with others.</span></span></span><br />\n<br />\n<span style="font-size:14px\;"><span style="font-family:verdana\;">Showcase your business!&nbsp\; Interested in hosting an LVCC After Hours Business Mixer in 2022? Contact Martha Espinoza at <a href="mailto:mespinoza@livermorechamber.org">mespinoza@livermorechamber.org</a> or 925-447-1606.</span></span>\n<div style="text-align: center\;"><br />\n&nbsp\;</div>\n<span style="font-size:14px\;"><span style="font-family:verdana\;"><span style="font-size:18px\;"><strong>&nbsp\; &nbsp\; &nbsp\;&nbsp\;</strong></span></span></span>\n\n<div align="center" style="text-align: center\;">&nbsp\;</div>\n\n<div align="center" style="text-align: center\;">&nbsp\;</div>\n<br />\n<br />\n<br />\n<br />\n&nbsp\;
LOCATION:This is a virtual speed networking event. Logon link will be provided after registration.
UID:e.3178.4512
SEQUENCE:3
DTSTAMP:20260421T194603Z
URL:https://business.livermorechamber.org/events/details/virtual-speed-networking-in-lieu-of-after-hours-business-mixer-02-16-2022-4512
END:VEVENT

END:VCALENDAR
