BEGIN:VCALENDAR
VERSION:2.0
PRODID:-//ChamberMaster//Event Calendar 2.0//EN
METHOD:PUBLISH
X-PUBLISHED-TTL:P3D
REFRESH-INTERVAL:P3D
CALSCALE:GREGORIAN
BEGIN:VEVENT
DTSTART:20260228T010000Z
DTEND:20260228T050000Z
X-MICROSOFT-CDO-ALLDAYEVENT:FALSE
SUMMARY:Wild and Scenic Film Festival
DESCRIPTION:The Wild & Scenic Film Festival is the largest film festival of its kind\, showcasing the best and brightest in environmental and adventure films!\n\nFestival viewers can expect to see award-winning\, environmentally inspired short films and learn more about Tri-Valley Conservancy (TVC)\, Tri-Valley Air Quality Climate Alliance (TVAQCA)\, and our partners' work here in the Tri-Valley. \n We invite you to join this exclusive event at the Bankhead Theater in Livermore on Friday\, February 27th\, 2026. \n\nDoors: 5 pm\n\nEco Fair & Refreshments: 5-7 pm\n\nQ&A Panel: 5:30-6:30 pm\n\nFilm Showings: 7-9 pm \n\nEnjoy a pre-screening Q&A panel\, eco fair tables\, light bites\, and a raffle\, in addition to the educational and inspiring film program.\n\nTickets are expected to sell out. Secure yours now! \n\n https://livermorearts.org/events/wild-scenic-film-festival/
X-ALT-DESC;FMTTYPE=text/html:<p><span style="font-family:verdana\;"><span style="font-size:16px\;"><span style="background-color: transparent\; color: rgb(10\, 24\, 36)\;">The Wild &amp\; Scenic Film Festival is the largest film festival of its kind\, showcasing the best and brightest in environmental and adventure films!</span></span></span></p>\n\n<p><span style="font-family:verdana\;"><span style="font-size:16px\;"><span style="background-color: transparent\; color: rgb(10\, 24\, 36)\;">Festival viewers can expect to see award-winning\, environmentally inspired short films and learn more about Tri-Valley Conservancy (TVC)\, Tri-Valley Air Quality Climate Alliance (TVAQCA)\, and our partners&rsquo\; work here in the Tri-Valley.&nbsp\;</span></span></span></p>\n<span style="font-family:verdana\;"><span style="font-size:16px\;">&nbsp\;</span><span style="font-size: 16px\; background-color: transparent\; color: rgb(10\, 24\, 36)\;">We invite you to join this exclusive event at the Bankhead Theater in Livermore on </span><strong style="font-size: 16px\;">Friday\, February 27th\, 2026.&nbsp\;</strong></span>\n\n<p><span style="font-family:verdana\;"><span style="font-size:16px\;"><span style="background-color: transparent\; color: rgb(10\, 24\, 36)\;">Doors: 5 pm</span></span></span></p>\n\n<p><span style="font-family:verdana\;"><span style="font-size:16px\;"><span style="background-color: transparent\; color: rgb(10\, 24\, 36)\;">Eco Fair &amp\; Refreshments: 5-7 pm</span></span></span></p>\n\n<p><span style="font-family:verdana\;"><span style="font-size:16px\;"><span style="background-color: transparent\; color: rgb(10\, 24\, 36)\;">Q&amp\;A Panel: 5:30-6:30 pm</span></span></span></p>\n\n<p><span style="font-family:verdana\;"><span style="font-size:16px\;"><span style="background-color: transparent\; color: rgb(10\, 24\, 36)\;">Film Showings: 7-9 pm&nbsp\;</span></span></span></p>\n\n<p><span style="font-family:verdana\;"><span style="font-size:16px\;"><span style="background-color: transparent\; color: rgb(10\, 24\, 36)\;">Enjoy a pre-screening Q&amp\;A panel\, eco fair tables\, light bites\, and a raffle\, in addition to the educational and inspiring film program.</span></span></span></p>\n\n<p><span style="font-family:verdana\;"><span style="font-size:16px\;"><span style="background-color: transparent\; color: rgb(10\, 24\, 36)\;">Tickets are expected to sell out. Secure yours now!&nbsp\;</span></span></span></p>\n\n<p><span style="font-family:verdana\;"><span style="font-size:16px\;"><span style="background-color: transparent\; color: rgb(10\, 24\, 36)\;">&nbsp\;</span><a href="https://livermorearts.org/events/wild-scenic-film-festival/" style="text-decoration-line: none\;"><span style="background-color: transparent\; color: rgb(17\, 85\, 204)\;">https://livermorearts.org/events/wild-scenic-film-festival/</span></a><span style="background-color: transparent\; color: rgb(10\, 24\, 36)\;">&nbsp\;</span></span></span></p>\n\n<div>&nbsp\;</div>\n
LOCATION:Bankhead Theater 2400 First Street Livermore\, CA 94550
UID:e.3178.8513
SEQUENCE:3
DTSTAMP:20260422T180956Z
URL:https://business.livermorechamber.org/events/details/wild-and-scenic-film-festival-8513
END:VEVENT

END:VCALENDAR
