BEGIN:VCALENDAR
VERSION:2.0
PRODID:-//ChamberMaster//Event Calendar 2.0//EN
METHOD:PUBLISH
X-PUBLISHED-TTL:P3D
REFRESH-INTERVAL:P3D
CALSCALE:GREGORIAN
BEGIN:VEVENT
DTSTART:20181117T180000Z
DTEND:20181117T233000Z
X-MICROSOFT-CDO-ALLDAYEVENT:FALSE
SUMMARY:Wine Case Sale
DESCRIPTION:Wine Case Sale at Garr  Vineyard & Winery\n\nDon't miss out on our biggest wine sale of the season!
X-ALT-DESC;FMTTYPE=text/html:Wine Case Sale at Garr&eacute\; Vineyard &amp\; Winery<br />\nDon&#39\;t miss out on our biggest wine sale of the season!<br />\n&nbsp\;
LOCATION:Garre Vineyard & Winery 7986 Tesla Road Livermore\, CA 94550
UID:e.3178.1836
SEQUENCE:3
DTSTAMP:20260425T001236Z
URL:https://business.livermorechamber.org/events/details/wine-case-sale-1836
END:VEVENT

END:VCALENDAR
