BEGIN:VCALENDAR
VERSION:2.0
PRODID:-//ChamberMaster//Event Calendar 2.0//EN
METHOD:PUBLISH
X-PUBLISHED-TTL:P3D
REFRESH-INTERVAL:P3D
CALSCALE:GREGORIAN
BEGIN:VEVENT
DTSTART:20191031T000000Z
DTEND:20191031T030000Z
X-MICROSOFT-CDO-ALLDAYEVENT:FALSE
SUMMARY:Winery of the Week with Livermore Valley Wine Country
DESCRIPTION:Each Wednesday\, one Livermore Valley will kick off "Winery of the Week" by hosting Wine Wednesday. The winery will be open on Wednesday from 5-8pm to help guests wine-down from a hefty work week\, or just grab a taste of wine before heading out to a fabulous dinner!\n\n\nJan 30-Feb 3: Boa Ventura de Caires\n\n\n\nFeb 6-10: Cedar Mountain \n\n\n\nFeb 13-17: Elliston Vineyards\n\n\n\nFeb 20-24: NO HOST\n\n\n\nFeb 27-March 3: The Singing Winemaker\n\n\n\nMarch 6-10: Page Mill Winery\n\n\n\nMarch 13-17: Leisure Street Winery\n\n\n\nMarch 20-24: Event Weekend\; Barrel Tasting Weekend!\n\n\n\nMarch 27-31: el Sol Winery\n\n\n\nApril 3-7: Occasio Winery\n\n\n\nApril 10-14: Eagle Ridge Vineyard\n\n\n\nApril 17-21: Ehrenberg Cellars\n\n\n\nApril 24-28: Dante Robere Vineyards\n\n\n\nMay 1-5: Wente Vineyard Tasting Room Arroyo Road\n\n\n\nMay 8-12: Murrieta's Well\n\n\n\nMay 15-19: Winemaker's Studio\n\n\n\nMay 22-26: Retzlaff Vineyards\n\n\n\nMay 29-June 2: Event Weekend\; Wine & Wags\n\n\n\nJune 5-9: Eckert Estate Winery & Artisan Spirits\n\n\n\nJune 12-16: Wente Estate Tasting Room Tesla Road\n\n\n\nJune 19-23: Embodied Wines\n\n\n\nJune 26-30: Charles R Vineyards\n\n\n\nJuly 3-7: Rios-Lovell Estate\n\n\n\nJuly 10-14: McGrail Vineyards \n\n\n\nJuly 17-21: Longevity Wines\n\n\n\nJuly 24-28: Event Weekend\; Taste our Terroir!\n\n\n\nJuly 31- Aug. 4: Wood Family Vineyards\n\n\n\nAug 7-11: 3 Steves Winery\n\n\n\nAug 14-18: The Steven Kent Winery\n\n\n\nAug 21-25: Big White House Winery\n\n\n\nAug 28 - Sept 1: Event Weekend\; Harvest Wine Celebration!\n\n\n\nSept 4-8: Darcie Kent Vineyards\n\n\n\nSept 11-15: Omega Road Winery\n\n\n\nSept 18-22: Fenestra Winery\n\n\n\nSept 25-29: Cuda Ridge Wines\n\n\n\nOct 2-6: Garr  Vineyard and Winery\n\n\n\nOct 9-13: Mitchell Katz Winery\n\n\n\nOct 16-20: Bent Creek Winery\n\n\n\nOct 23-27: Nella Terra Cellars\n\n\n\nOctober 30 - Nov. 3: Rodrigue Molyneaux Winery\n\n\n\nNov 6-10: Las Positas Vineyards
X-ALT-DESC;FMTTYPE=text/html:<p>Each Wednesday\, one Livermore Valley will kick off &quot\;Winery of the Week&quot\; by hosting Wine Wednesday. The winery will be open on Wednesday from 5-8pm to help guests wine-down from a hefty work week\, or just grab a taste of wine before heading out to a fabulous dinner!</p>\n<br />\nJan 30-Feb 3: Boa Ventura de Caires<br />\n<br />\nFeb 6-10: Cedar Mountain&nbsp\;<br />\n<br />\nFeb 13-17: Elliston Vineyards<br />\n<br />\nFeb 20-24: NO HOST<br />\n<br />\nFeb 27-March 3: The Singing Winemaker<br />\n<br />\nMarch 6-10: Page Mill Winery<br />\n<br />\nMarch 13-17: Leisure Street Winery<br />\n<br />\nMarch 20-24: Event Weekend\; Barrel Tasting Weekend!<br />\n<br />\nMarch 27-31: el Sol Winery<br />\n<br />\nApril 3-7: Occasio Winery<br />\n<br />\nApril 10-14: Eagle Ridge Vineyard<br />\n<br />\nApril 17-21: Ehrenberg Cellars<br />\n<br />\nApril 24-28: Dante Robere Vineyards<br />\n<br />\nMay 1-5: Wente Vineyard Tasting Room Arroyo Road<br />\n<br />\nMay 8-12: Murrieta&#39\;s Well<br />\n<br />\nMay 15-19: Winemaker&#39\;s Studio<br />\n<br />\nMay 22-26: Retzlaff Vineyards<br />\n<br />\nMay 29-June 2: Event Weekend\; Wine &amp\; Wags<br />\n<br />\nJune 5-9: Eckert Estate Winery &amp\; Artisan Spirits<br />\n<br />\nJune 12-16: Wente Estate Tasting Room Tesla Road<br />\n<br />\nJune 19-23: Embodied Wines<br />\n<br />\nJune 26-30: Charles R Vineyards<br />\n<br />\nJuly 3-7: Rios-Lovell Estate<br />\n<br />\nJuly 10-14: McGrail Vineyards&nbsp\;<br />\n<br />\nJuly 17-21: Longevity Wines<br />\n<br />\nJuly 24-28: Event Weekend\; Taste our Terroir!<br />\n<br />\nJuly 31- Aug. 4: Wood Family Vineyards<br />\n<br />\nAug 7-11: 3 Steves Winery<br />\n<br />\nAug 14-18: The Steven Kent Winery<br />\n<br />\nAug 21-25: Big White House Winery<br />\n<br />\nAug 28 - Sept 1: Event Weekend\; Harvest Wine Celebration!<br />\n<br />\nSept 4-8: Darcie Kent Vineyards<br />\n<br />\nSept 11-15: Omega Road Winery<br />\n<br />\nSept 18-22: Fenestra Winery<br />\n<br />\nSept 25-29: Cuda Ridge Wines<br />\n<br />\nOct 2-6: Garr&eacute\; Vineyard and Winery<br />\n<br />\nOct 9-13: Mitchell Katz Winery<br />\n<br />\nOct 16-20: Bent Creek Winery<br />\n<br />\nOct 23-27: Nella Terra Cellars<br />\n<br />\nOctober 30 - Nov. 3: Rodrigue Molyneaux Winery<br />\n<br />\nNov 6-10: Las Positas Vineyards
LOCATION:Various Livermore Valley Wineries\, visit https://www.lvwine.org/event/4626/wine-wednesday-winery-of-the-week for the full list.
UID:e.3178.2086
SEQUENCE:3
DTSTAMP:20260424T072943Z
URL:https://business.livermorechamber.org/events/details/winery-of-the-week-with-livermore-valley-wine-country-10-30-2019-2086
END:VEVENT

END:VCALENDAR
